BEGIN:VCALENDAR
VERSION:2.0
PRODID:-// - ECPv6.15.11//NONSGML v1.0//EN
CALSCALE:GREGORIAN
METHOD:PUBLISH
X-ORIGINAL-URL:https://mairielafertevidame.fr
X-WR-CALDESC:Évènements pour 
REFRESH-INTERVAL;VALUE=DURATION:PT1H
X-Robots-Tag:noindex
X-PUBLISHED-TTL:PT1H
BEGIN:VTIMEZONE
TZID:Europe/Paris
BEGIN:DAYLIGHT
TZOFFSETFROM:+0100
TZOFFSETTO:+0200
TZNAME:CEST
DTSTART:20180325T010000
END:DAYLIGHT
BEGIN:STANDARD
TZOFFSETFROM:+0200
TZOFFSETTO:+0100
TZNAME:CET
DTSTART:20181028T010000
END:STANDARD
BEGIN:DAYLIGHT
TZOFFSETFROM:+0100
TZOFFSETTO:+0200
TZNAME:CEST
DTSTART:20190331T010000
END:DAYLIGHT
BEGIN:STANDARD
TZOFFSETFROM:+0200
TZOFFSETTO:+0100
TZNAME:CET
DTSTART:20191027T010000
END:STANDARD
BEGIN:DAYLIGHT
TZOFFSETFROM:+0100
TZOFFSETTO:+0200
TZNAME:CEST
DTSTART:20200329T010000
END:DAYLIGHT
BEGIN:STANDARD
TZOFFSETFROM:+0200
TZOFFSETTO:+0100
TZNAME:CET
DTSTART:20201025T010000
END:STANDARD
END:VTIMEZONE
BEGIN:VEVENT
DTSTART;TZID=Europe/Paris:20190703T150000
DTEND;TZID=Europe/Paris:20190703T170000
DTSTAMP:20260422T115725
CREATED:20190614T133234Z
LAST-MODIFIED:20190614T134832Z
UID:2147-1562166000-1562173200@mairielafertevidame.fr
SUMMARY:Visite de la Chapelle de Réveillon
DESCRIPTION:  \nL’Office de Tourisme vous propose la visite de ce petit bijou de notre territoire qu’est la chapelle de Réveillon. Datant des XIIème\, XIIIème\, XIVème et XVème siècle\, elle renferme entre autre des peintures murales en parfait état classées aux Monuments Historiques. Rendez-vous sur place à 15h00\, tarif de 5 € par personne (gratuit moins de 12 ans).
URL:https://mairielafertevidame.fr/event/visite-de-la-chapelle-de-reveillon-3/
LOCATION:Chapelle de Réveillon\, Réveillon\, 28340
END:VEVENT
BEGIN:VEVENT
DTSTART;TZID=Europe/Paris:20190703T170000
DTEND;TZID=Europe/Paris:20190703T170000
DTSTAMP:20260422T115725
CREATED:20190625T141413Z
LAST-MODIFIED:20190625T142954Z
UID:2360-1562173200-1562173200@mairielafertevidame.fr
SUMMARY:Inauguration place de la Mairie
DESCRIPTION:Lors de la séance du Conseil Municipal du 7 novembre 2018\, les membres du conseil ont décidé à l’unanimité de donner un nom à la place sise devant la Mairie. Compte tenu de l’histoire de la commune et du bâtiment de la Mairie\, ils ont décidé de la nommer « Place Louis-Philippe ». En effet\, en 1847\, le Roi Louis-Philippe avait demandé que la Mairie qui était implantée dans les communs du château soit transférée au-dessus de la halle dans le centre de La Ferté-Vidame. Afin de réaliser la construction nécessaire à cette administration\, le Roi avait accordé une somme de deux mille francs pour aider au financement des travaux. \n  \nLes Fertois et les Fertoises sont invités à cette inauguration le 3 juillet à 17h00.
URL:https://mairielafertevidame.fr/event/inauguration-place-de-la-mairie/
LOCATION:Place de La Mairie\, 18 rue de Laborde\, La Ferté-Vidame
END:VEVENT
BEGIN:VEVENT
DTSTART;TZID=Europe/Paris:20190706T200000
DTEND;TZID=Europe/Paris:20190706T200000
DTSTAMP:20260422T115725
CREATED:20190619T063139Z
LAST-MODIFIED:20190701T144125Z
UID:2285-1562443200-1562443200@mairielafertevidame.fr
SUMMARY:Concert: The Flute Project
DESCRIPTION:L’Association pour la Renaissance d’un Orgue organise un concert classique le samedi 6 juillet 2019 à 20h00.\nA la Chapelle de Réveillon\n28340 La Ferté-Vidame \nLe duo The Flute Project avec Diana MATEVOSOVA à la guitare et Paula THOMAS à la flûte traversière interprétera des œuvres de Bach\, Scarlatti\, Fauré\, Debussy\, Piazzolla et Ibert. \nRéservation au 06.60.16.83.19 – 06.63.05.21.56 \nTarifs: si réservation avant le 4 juillet: 12€\, sinon 15€\n8€ pour les 14-18 ans
URL:https://mairielafertevidame.fr/event/concert-the-flute-project/
LOCATION:Chapelle de Réveillon\, Réveillon\, 28340
END:VEVENT
BEGIN:VEVENT
DTSTART;TZID=Europe/Paris:20190707T150000
DTEND;TZID=Europe/Paris:20190707T150000
DTSTAMP:20260422T115725
CREATED:20190614T135424Z
LAST-MODIFIED:20190614T135756Z
UID:2183-1562511600-1562511600@mairielafertevidame.fr
SUMMARY:Visite la Chapelle de Réveillon
DESCRIPTION:L’Office de Tourisme vous propose la visite de ce petit bijou de notre territoire qu’est la chapelle de Réveillon. Datant des XIIème\, XIIIème\, XIVème et XVème siècle\, elle renferme entre autre des peintures murales en parfait état classées aux Monuments Historiques. Rendez-vous sur place à 15h00\, tarif de 5 € par personne (gratuit moins de 12 ans). \n 
URL:https://mairielafertevidame.fr/event/visite-la-chapelle-de-reveillon-5/
LOCATION:Chapelle de Réveillon\, Réveillon\, 28340
END:VEVENT
BEGIN:VEVENT
DTSTART;TZID=Europe/Paris:20190707T163000
DTEND;TZID=Europe/Paris:20190707T163000
DTSTAMP:20260422T115725
CREATED:20190614T142628Z
LAST-MODIFIED:20190614T142628Z
UID:2213-1562517000-1562517000@mairielafertevidame.fr
SUMMARY:Visite du parc du Château
DESCRIPTION:La saison des visites estivales de l’Office de tourisme se poursuit avec une visite historique du parc du château de La Ferté-Vidame. Pendant une heure\, venez découvrir l’histoire des lieux et des hôtes illustres qui y ont vécut (Saint-Simon\, De Laborde\, Louis-Philippe). Rendez-vous au pavillon Saint-Dominique à 16h30 (entrée du parc)\, tarif de 5 € par personne (gratuit moins de 12 ans). \nPour tous renseignements :\n02 37 37 68 59 / 02 37 37 80 11 \n 
URL:https://mairielafertevidame.fr/event/visite-du-parc-du-chateau-5/
LOCATION:Office de Tourisme des Forêts du Perche\, La Ferté-Vidame\, 28340
END:VEVENT
BEGIN:VEVENT
DTSTART;TZID=Europe/Paris:20190710T150000
DTEND;TZID=Europe/Paris:20190710T170000
DTSTAMP:20260422T115725
CREATED:20190614T133321Z
LAST-MODIFIED:20190614T134757Z
UID:2149-1562770800-1562778000@mairielafertevidame.fr
SUMMARY:Visite de la Chapelle de Réveillon
DESCRIPTION:  \nL’Office de Tourisme vous propose la visite de ce petit bijou de notre territoire qu’est la chapelle de Réveillon. Datant des XIIème\, XIIIème\, XIVème et XVème siècle\, elle renferme entre autre des peintures murales en parfait état classées aux Monuments Historiques. Rendez-vous sur place à 15h00\, tarif de 5 € par personne (gratuit moins de 12 ans).
URL:https://mairielafertevidame.fr/event/visite-de-la-chapelle-de-reveillon-4/
LOCATION:Chapelle de Réveillon\, Réveillon\, 28340
END:VEVENT
BEGIN:VEVENT
DTSTART;VALUE=DATE:20190714
DTEND;VALUE=DATE:20190722
DTSTAMP:20260422T115725
CREATED:20190711T084544Z
LAST-MODIFIED:20190715T143020Z
UID:2522-1563062400-1563753599@mairielafertevidame.fr
SUMMARY:Exposition CORT "100 ans d'Automobiles Fertoises"
DESCRIPTION:  \n \n  \nDans le cadre du centenaire Citroën\, l’Association CORT vous propose une exposition  » 100 ans d’Automobiles Fertoises « . Vous y découvrirez photos\, cartes postales\, modèles réduits alors n’hésitez pas à vous y rendre\, en attendant le centième anniversaire de la marque aux chevrons les 19\, 20 et 21 juillet. \n\nOuvert du 14 au 21 juillet. \nAdresse:\nAnciens locaux de l’auto-école de La Ferté Vidame\n9 rue de Laborde\n28340 LA FERTE-VIDAME \n06.13.24.53.36
URL:https://mairielafertevidame.fr/event/exposition-cort-100-ans-dautomobiles-fertoises/
LOCATION:Rue de Laborde\, 9 Rue de Laborde\, La Ferté Vidame\, 28340\, France
END:VEVENT
BEGIN:VEVENT
DTSTART;TZID=Europe/Paris:20190714T114500
DTEND;TZID=Europe/Paris:20190714T114500
DTSTAMP:20260422T115725
CREATED:20190307T112659Z
LAST-MODIFIED:20190626T093823Z
UID:1000-1563104700-1563104700@mairielafertevidame.fr
SUMMARY:Commémoration
DESCRIPTION:
URL:https://mairielafertevidame.fr/event/commemoration-4/
LOCATION:Monument aux morts\, rue de Laborde\, La Ferté Vidame
END:VEVENT
BEGIN:VEVENT
DTSTART;TZID=Europe/Paris:20190714T123000
DTEND;TZID=Europe/Paris:20190714T123000
DTSTAMP:20260422T115725
CREATED:20190307T112811Z
LAST-MODIFIED:20190701T143908Z
UID:1002-1563107400-1563107400@mairielafertevidame.fr
SUMMARY:Fête Nationale
DESCRIPTION:Le Comité des Fêtes de la commune vous propose comme tous les ans une journée festive pour la Fête Nationale avec pour commencer le traditionnel défilé au Monument aux Morts\, un barbecue à 12h30 suivi par un bal guinguette tout l’après-midi. N’hésitez pas ! \n  \n 
URL:https://mairielafertevidame.fr/event/fete-nationale-2/
LOCATION:Place de La Mairie\, 18 rue de Laborde\, La Ferté-Vidame
END:VEVENT
BEGIN:VEVENT
DTSTART;TZID=Europe/Paris:20190714T150000
DTEND;TZID=Europe/Paris:20190714T150000
DTSTAMP:20260422T115725
CREATED:20190614T135533Z
LAST-MODIFIED:20190614T135533Z
UID:2185-1563116400-1563116400@mairielafertevidame.fr
SUMMARY:Visite de la Chapelle de Réveillon
DESCRIPTION:L’Office de Tourisme vous propose la visite de ce petit bijou de notre territoire qu’est la chapelle de Réveillon. Datant des XIIème\, XIIIème\, XIVème et XVème siècle\, elle renferme entre autre des peintures murales en parfait état classées aux Monuments Historiques. Rendez-vous sur place à 15h00\, tarif de 5 € par personne (gratuit moins de 12 ans).
URL:https://mairielafertevidame.fr/event/visite-de-la-chapelle-de-reveillon-12/
LOCATION:Chapelle de Réveillon\, Réveillon\, 28340
END:VEVENT
BEGIN:VEVENT
DTSTART;TZID=Europe/Paris:20190714T163000
DTEND;TZID=Europe/Paris:20190714T163000
DTSTAMP:20260422T115725
CREATED:20190614T142732Z
LAST-MODIFIED:20190614T142732Z
UID:2215-1563121800-1563121800@mairielafertevidame.fr
SUMMARY:Visite du parc du Château
DESCRIPTION:La saison des visites estivales de l’Office de tourisme se poursuit avec une visite historique du parc du château de La Ferté-Vidame. Pendant une heure\, venez découvrir l’histoire des lieux et des hôtes illustres qui y ont vécut (Saint-Simon\, De Laborde\, Louis-Philippe). Rendez-vous au pavillon Saint-Dominique à 16h30 (entrée du parc)\, tarif de 5 € par personne (gratuit moins de 12 ans). \nPour tous renseignements :\n02 37 37 68 59 / 02 37 37 80 11
URL:https://mairielafertevidame.fr/event/visite-du-parc-du-chateau-6/
LOCATION:Office de Tourisme des Forêts du Perche\, La Ferté-Vidame\, 28340
END:VEVENT
BEGIN:VEVENT
DTSTART;TZID=Europe/Paris:20190717T150000
DTEND;TZID=Europe/Paris:20190717T170000
DTSTAMP:20260422T115725
CREATED:20190614T133404Z
LAST-MODIFIED:20190614T134724Z
UID:2151-1563375600-1563382800@mairielafertevidame.fr
SUMMARY:Visite de la Chapelle de Réveillon
DESCRIPTION:  \nL’Office de Tourisme vous propose la visite de ce petit bijou de notre territoire qu’est la chapelle de Réveillon. Datant des XIIème\, XIIIème\, XIVème et XVème siècle\, elle renferme entre autre des peintures murales en parfait état classées aux Monuments Historiques. Rendez-vous sur place à 15h00\, tarif de 5 € par personne (gratuit moins de 12 ans).
URL:https://mairielafertevidame.fr/event/visite-de-la-chapelle-de-reveillon-5/
LOCATION:Chapelle de Réveillon\, Réveillon\, 28340
END:VEVENT
BEGIN:VEVENT
DTSTART;VALUE=DATE:20190719
DTEND;VALUE=DATE:20190722
DTSTAMP:20260422T115725
CREATED:20190307T112959Z
LAST-MODIFIED:20190307T115359Z
UID:1004-1563494400-1563753599@mairielafertevidame.fr
SUMMARY:Centenaire Citroën
DESCRIPTION:
URL:https://mairielafertevidame.fr/event/centenaire-citroen/
LOCATION:Ville et Parc du Château\, La Ferté Vidame
END:VEVENT
BEGIN:VEVENT
DTSTART;TZID=Europe/Paris:20190721T150000
DTEND;TZID=Europe/Paris:20190721T150000
DTSTAMP:20260422T115725
CREATED:20190614T135636Z
LAST-MODIFIED:20190614T135636Z
UID:2187-1563721200-1563721200@mairielafertevidame.fr
SUMMARY:Visite la Chapelle de Réveillon
DESCRIPTION:L’Office de Tourisme vous propose la visite de ce petit bijou de notre territoire qu’est la chapelle de Réveillon. Datant des XIIème\, XIIIème\, XIVème et XVème siècle\, elle renferme entre autre des peintures murales en parfait état classées aux Monuments Historiques. Rendez-vous sur place à 15h00\, tarif de 5 € par personne (gratuit moins de 12 ans). \n 
URL:https://mairielafertevidame.fr/event/visite-la-chapelle-de-reveillon-6/
LOCATION:Chapelle de Réveillon\, Réveillon\, 28340
END:VEVENT
BEGIN:VEVENT
DTSTART;TZID=Europe/Paris:20190721T163000
DTEND;TZID=Europe/Paris:20190721T163000
DTSTAMP:20260422T115725
CREATED:20190614T142848Z
LAST-MODIFIED:20190614T142848Z
UID:2217-1563726600-1563726600@mairielafertevidame.fr
SUMMARY:Visite du parc du Château
DESCRIPTION:La saison des visites estivales de l’Office de tourisme se poursuit avec une visite historique du parc du château de La Ferté-Vidame. Pendant une heure\, venez découvrir l’histoire des lieux et des hôtes illustres qui y ont vécut (Saint-Simon\, De Laborde\, Louis-Philippe). Rendez-vous au pavillon Saint-Dominique à 16h30 (entrée du parc)\, tarif de 5 € par personne (gratuit moins de 12 ans). \nPour tous renseignements :\n02 37 37 68 59 / 02 37 37 80 11 \n 
URL:https://mairielafertevidame.fr/event/visite-du-parc-du-chateau-7/
LOCATION:Office de Tourisme des Forêts du Perche\, La Ferté-Vidame\, 28340
END:VEVENT
BEGIN:VEVENT
DTSTART;TZID=Europe/Paris:20190724T150000
DTEND;TZID=Europe/Paris:20190724T170000
DTSTAMP:20260422T115725
CREATED:20190614T133446Z
LAST-MODIFIED:20190614T134651Z
UID:2153-1563980400-1563987600@mairielafertevidame.fr
SUMMARY:Visite de la Chapelle de Réveillon
DESCRIPTION:  \nL’Office de Tourisme vous propose la visite de ce petit bijou de notre territoire qu’est la chapelle de Réveillon. Datant des XIIème\, XIIIème\, XIVème et XVème siècle\, elle renferme entre autre des peintures murales en parfait état classées aux Monuments Historiques. Rendez-vous sur place à 15h00\, tarif de 5 € par personne (gratuit moins de 12 ans).
URL:https://mairielafertevidame.fr/event/visite-de-la-chapelle-de-reveillon-6/
LOCATION:Chapelle de Réveillon\, Réveillon\, 28340
END:VEVENT
BEGIN:VEVENT
DTSTART;TZID=Europe/Paris:20190728T133000
DTEND;TZID=Europe/Paris:20190728T133000
DTSTAMP:20260422T115725
CREATED:20190307T113208Z
LAST-MODIFIED:20190619T063811Z
UID:1008-1564320600-1564320600@mairielafertevidame.fr
SUMMARY:Courses Hippiques
DESCRIPTION:
URL:https://mairielafertevidame.fr/event/courses-hippiques/
LOCATION:Hippodrome\, Pipe Souris\, La Ferté Vidame
END:VEVENT
BEGIN:VEVENT
DTSTART;TZID=Europe/Paris:20190728T150000
DTEND;TZID=Europe/Paris:20190728T150000
DTSTAMP:20260422T115725
CREATED:20190614T135854Z
LAST-MODIFIED:20190614T135912Z
UID:2189-1564326000-1564326000@mairielafertevidame.fr
SUMMARY:Visite de la Chapelle de Réveillon
DESCRIPTION:L’Office de Tourisme vous propose la visite de ce petit bijou de notre territoire qu’est la chapelle de Réveillon. Datant des XIIème\, XIIIème\, XIVème et XVème siècle\, elle renferme entre autre des peintures murales en parfait état classées aux Monuments Historiques. Rendez-vous sur place à 15h00\, tarif de 5 € par personne (gratuit moins de 12 ans). \n 
URL:https://mairielafertevidame.fr/event/2189/
LOCATION:Chapelle de Réveillon\, Réveillon\, 28340
END:VEVENT
BEGIN:VEVENT
DTSTART;TZID=Europe/Paris:20190728T163000
DTEND;TZID=Europe/Paris:20190728T163000
DTSTAMP:20260422T115725
CREATED:20190614T142944Z
LAST-MODIFIED:20190614T142944Z
UID:2219-1564331400-1564331400@mairielafertevidame.fr
SUMMARY:Visite du parc du Château
DESCRIPTION:La saison des visites estivales de l’Office de tourisme se poursuit avec une visite historique du parc du château de La Ferté-Vidame. Pendant une heure\, venez découvrir l’histoire des lieux et des hôtes illustres qui y ont vécut (Saint-Simon\, De Laborde\, Louis-Philippe). Rendez-vous au pavillon Saint-Dominique à 16h30 (entrée du parc)\, tarif de 5 € par personne (gratuit moins de 12 ans). \nPour tous renseignements :\n02 37 37 68 59 / 02 37 37 80 11 \n 
URL:https://mairielafertevidame.fr/event/visite-du-parc-du-chateau-8/
LOCATION:Office de Tourisme des Forêts du Perche\, La Ferté-Vidame\, 28340
END:VEVENT
BEGIN:VEVENT
DTSTART;TZID=Europe/Paris:20190731T150000
DTEND;TZID=Europe/Paris:20190731T170000
DTSTAMP:20260422T115725
CREATED:20190614T133535Z
LAST-MODIFIED:20190614T134608Z
UID:2155-1564585200-1564592400@mairielafertevidame.fr
SUMMARY:Visite de la Chapelle de Réveillon
DESCRIPTION:L’Office de Tourisme vous propose la visite de ce petit bijou de notre territoire qu’est la chapelle de Réveillon. Datant des XIIème\, XIIIème\, XIVème et XVème siècle\, elle renferme entre autre des peintures murales en parfait état classées aux Monuments Historiques. Rendez-vous sur place à 15h00\, tarif de 5 € par personne (gratuit moins de 12 ans).
URL:https://mairielafertevidame.fr/event/visite-de-la-chapelle-de-reveillon-7/
LOCATION:Chapelle de Réveillon\, Réveillon\, 28340
END:VEVENT
END:VCALENDAR