BEGIN:VCALENDAR
VERSION:2.0
PRODID:-// - ECPv6.15.11//NONSGML v1.0//EN
CALSCALE:GREGORIAN
METHOD:PUBLISH
X-ORIGINAL-URL:https://mairielafertevidame.fr
X-WR-CALDESC:Évènements pour 
REFRESH-INTERVAL;VALUE=DURATION:PT1H
X-Robots-Tag:noindex
X-PUBLISHED-TTL:PT1H
BEGIN:VTIMEZONE
TZID:Europe/Paris
BEGIN:DAYLIGHT
TZOFFSETFROM:+0100
TZOFFSETTO:+0200
TZNAME:CEST
DTSTART:20180325T010000
END:DAYLIGHT
BEGIN:STANDARD
TZOFFSETFROM:+0200
TZOFFSETTO:+0100
TZNAME:CET
DTSTART:20181028T010000
END:STANDARD
BEGIN:DAYLIGHT
TZOFFSETFROM:+0100
TZOFFSETTO:+0200
TZNAME:CEST
DTSTART:20190331T010000
END:DAYLIGHT
BEGIN:STANDARD
TZOFFSETFROM:+0200
TZOFFSETTO:+0100
TZNAME:CET
DTSTART:20191027T010000
END:STANDARD
BEGIN:DAYLIGHT
TZOFFSETFROM:+0100
TZOFFSETTO:+0200
TZNAME:CEST
DTSTART:20200329T010000
END:DAYLIGHT
BEGIN:STANDARD
TZOFFSETFROM:+0200
TZOFFSETTO:+0100
TZNAME:CET
DTSTART:20201025T010000
END:STANDARD
END:VTIMEZONE
BEGIN:VEVENT
DTSTART;VALUE=DATE:20190601
DTEND;VALUE=DATE:20190602
DTSTAMP:20260420T141749
CREATED:20190307T110204Z
LAST-MODIFIED:20190521T092325Z
UID:972-1559347200-1559433599@mairielafertevidame.fr
SUMMARY:Fête Communale
DESCRIPTION:Le Comité des Fêtes de la Ferté-Vidame organise sa traditionnelle fête communale \nSamedi 1er juin:\n22 heures retraite aux flambeaux\nsuivi du traditionnel feu d’artifice \nDimanche 2 juin:\nBrocante\nFête foraine
URL:https://mairielafertevidame.fr/event/fete-communale/
END:VEVENT
BEGIN:VEVENT
DTSTART;TZID=Europe/Paris:20190601T150000
DTEND;TZID=Europe/Paris:20190601T170000
DTSTAMP:20260420T141749
CREATED:20190522T083057Z
LAST-MODIFIED:20190522T083057Z
UID:1951-1559401200-1559408400@mairielafertevidame.fr
SUMMARY:Après-midi Jeux
DESCRIPTION:La Médiathèque organise une après midi jeux\nLe samedi 1er juin de 15h00 à 17h00
URL:https://mairielafertevidame.fr/event/apres-midi-jeux/
LOCATION:Médiathèque\, 29 rue de Laborde\, La Ferté-Vidame
END:VEVENT
BEGIN:VEVENT
DTSTART;TZID=Europe/Paris:20190601T180000
DTEND;TZID=Europe/Paris:20190601T180000
DTSTAMP:20260420T141749
CREATED:20190524T083143Z
LAST-MODIFIED:20190524T083143Z
UID:2010-1559412000-1559412000@mairielafertevidame.fr
SUMMARY:Musique en Eure et Loir
DESCRIPTION:Samedi 1er juin à 18h00 à la chapelle de Réveillon à La Ferté-vidame: musique en Eure et Loir . « Lolo Cello » Classique Jazz Création\, formation de quatre musiciens fascinés par la liberté et la richesse sonore. Ils vous feront découvrir leur parcours musical aux différentes sonorités\, tel un souffle extraordinaire ! \nFrançois Salque\, violoncelle. Samuel Stouk & Adien Moignard\, guitares. Jérémie Arranger\, contrebasse. \nTarif : 15 €. Gratuit jusqu’à 16 ans. \nRéservation au 06 45 71 36 80. \n 
URL:https://mairielafertevidame.fr/event/musique-en-eure-et-loir-2/
LOCATION:Chapelle de Réveillon\, Réveillon\, 28340
END:VEVENT
BEGIN:VEVENT
DTSTART;VALUE=DATE:20190602
DTEND;VALUE=DATE:20190603
DTSTAMP:20260420T141749
CREATED:20190307T110427Z
LAST-MODIFIED:20190308T110836Z
UID:974-1559433600-1559519999@mairielafertevidame.fr
SUMMARY:Concert
DESCRIPTION:
URL:https://mairielafertevidame.fr/event/concert-2/
LOCATION:Chapelle de Réveillon\, Réveillon\, 28340
END:VEVENT
BEGIN:VEVENT
DTSTART;TZID=Europe/Paris:20190608T100000
DTEND;TZID=Europe/Paris:20190608T163000
DTSTAMP:20260420T141749
CREATED:20190307T110521Z
LAST-MODIFIED:20190521T092619Z
UID:978-1559988000-1560011400@mairielafertevidame.fr
SUMMARY:La fête du tennis
DESCRIPTION:La Fête du Tennis a lieu\nle samedi 8 juin 2019 de 10h00 à 16h30
URL:https://mairielafertevidame.fr/event/fete-communale-2/
LOCATION:Terrain de Tennis\, route de Marchainville\, La Ferté Vidame
END:VEVENT
BEGIN:VEVENT
DTSTART;TZID=Europe/Paris:20190608T180000
DTEND;TZID=Europe/Paris:20190608T180000
DTSTAMP:20260420T141749
CREATED:20190524T082957Z
LAST-MODIFIED:20190524T082957Z
UID:2007-1560016800-1560016800@mairielafertevidame.fr
SUMMARY:Musique en Eure et Loir
DESCRIPTION:Samedi 8 juin à 18h00 à la chapelle de Réveillon à La Ferté-Vidame : musique en Eure et Loir . Récital « Scarlatti e Due ». Scarlatti à deux\, du clavecin au pianoforte en alternance\, en réponses\, en écho ou ensemble. Un Jeu dans la Musique sans jamais la déformer\, un plaisir nouveau de l’esthétique\, de l’émotion\, de la technique. un Jeu renouvelé à l’écoute des instruments\, pour une exploration hédoniste et inédite! \nLaure Colladant\, pianoforte. Stéphane Béchy\, clavecin. \nTarif : 15 €. Gratuit jusqu’à 16 ans. \nRéservation au 06 45 71 36 80. \n 
URL:https://mairielafertevidame.fr/event/musique-en-eure-et-loir/
LOCATION:Chapelle de Réveillon\, Réveillon\, 28340
END:VEVENT
BEGIN:VEVENT
DTSTART;VALUE=DATE:20190609
DTEND;VALUE=DATE:20190610
DTSTAMP:20260420T141749
CREATED:20190307T110607Z
LAST-MODIFIED:20190308T110936Z
UID:980-1560038400-1560124799@mairielafertevidame.fr
SUMMARY:Concert
DESCRIPTION:
URL:https://mairielafertevidame.fr/event/concert-3/
LOCATION:Chapelle de Réveillon\, Réveillon\, 28340
END:VEVENT
BEGIN:VEVENT
DTSTART;TZID=Europe/Paris:20190615T143000
DTEND;TZID=Europe/Paris:20190615T143000
DTSTAMP:20260420T141749
CREATED:20190516T122357Z
LAST-MODIFIED:20190516T122357Z
UID:1928-1560609000-1560609000@mairielafertevidame.fr
SUMMARY:Scrabble
DESCRIPTION:  La Médiathèque des Forêts du Perche de La Ferté-Vidame propose son habituel tournois de Scrabble. Chaque participant devra venir avec son propre jeu\, la participation étant gratuite. \nLe Samedi 15 juin 2019 à 14h30
URL:https://mairielafertevidame.fr/event/scrabble-3/
LOCATION:Médiathèque\, 29 rue de Laborde\, La Ferté-Vidame
END:VEVENT
BEGIN:VEVENT
DTSTART;TZID=Europe/Paris:20190616T150000
DTEND;TZID=Europe/Paris:20190616T150000
DTSTAMP:20260420T141749
CREATED:20190614T132338Z
LAST-MODIFIED:20190614T134949Z
UID:2136-1560697200-1560697200@mairielafertevidame.fr
SUMMARY:Visite la Chapelle de réveillon
DESCRIPTION:  \nL’Office de Tourisme vous propose la visite de ce petit bijou de notre territoire qu’est la chapelle de Réveillon. Datant des XIIème\, XIIIème\, XIVème et XVème siècle\, elle renferme entre autre des peintures murales en parfait état classées aux Monuments Historiques. Rendez-vous sur place à 15h00\, tarif de 5 € par personne (gratuit moins de 12 ans).
URL:https://mairielafertevidame.fr/event/visite-la-chapelle-de-reveillon/
LOCATION:Chapelle de Réveillon\, Réveillon\, 28340
END:VEVENT
BEGIN:VEVENT
DTSTART;TZID=Europe/Paris:20190616T163000
DTEND;TZID=Europe/Paris:20190616T163000
DTSTAMP:20260420T141749
CREATED:20190614T141414Z
LAST-MODIFIED:20190614T141535Z
UID:2202-1560702600-1560702600@mairielafertevidame.fr
SUMMARY:Visite du parc du Château
DESCRIPTION:La saison des visites estivales de l’Office de tourisme se poursuit avec une visite historique du parc du château de La Ferté-Vidame. Pendant une heure\, venez découvrir l’histoire des lieux et des hôtes illustres qui y ont vécut (Saint-Simon\, De Laborde\, Louis-Philippe). Rendez-vous au pavillon Saint-Dominique à 16h30 (entrée du parc)\, tarif de 5 € par personne (gratuit moins de 12 ans). \nPour tous renseignements :\n02 37 37 68 59 / 02 37 37 80 11
URL:https://mairielafertevidame.fr/event/visite-du-parc-du-chateau/
LOCATION:Office de Tourisme des Forêts du Perche\, La Ferté-Vidame\, 28340
END:VEVENT
BEGIN:VEVENT
DTSTART;TZID=Europe/Paris:20190618T180000
DTEND;TZID=Europe/Paris:20190618T180000
DTSTAMP:20260420T141749
CREATED:20190307T110707Z
LAST-MODIFIED:20190307T110707Z
UID:982-1560880800-1560880800@mairielafertevidame.fr
SUMMARY:Commémoration
DESCRIPTION:
URL:https://mairielafertevidame.fr/event/commemoration-3/
LOCATION:Monument aux morts\, rue de Laborde\, La Ferté Vidame
END:VEVENT
BEGIN:VEVENT
DTSTART;TZID=Europe/Paris:20190621T190000
DTEND;TZID=Europe/Paris:20190621T210000
DTSTAMP:20260420T141749
CREATED:20190617T093100Z
LAST-MODIFIED:20190617T093100Z
UID:2258-1561143600-1561150800@mairielafertevidame.fr
SUMMARY:Fête de la musique
DESCRIPTION:Le vendredi 21 juin à 19h00 : fête de la musique à La Ferté-Vidame. \nLe camping Les Abrias du Perche vous propose de passer la soirée en musique  avec le groupe Skyin et les Pops.  Buvette et restauration sur place\, entrée libre et gratuite. \nRenseignements :\n02 37 37 64 19
URL:https://mairielafertevidame.fr/event/fete-de-la-musique/
LOCATION:les abrias du perche
END:VEVENT
BEGIN:VEVENT
DTSTART;TZID=Europe/Paris:20190622T143000
DTEND;TZID=Europe/Paris:20190622T143000
DTSTAMP:20260420T141749
CREATED:20190617T092840Z
LAST-MODIFIED:20190619T063629Z
UID:2256-1561213800-1561213800@mairielafertevidame.fr
SUMMARY:Scrabble
DESCRIPTION:Le samedi 22 juin à partir de 14h30 : après-midi jeux à La Ferté-vidame. \nLa médiathèque des Forêts du Perche de La Ferté-Vidame vous propose un après-midi jeu avec le traditionnel scrabble ! Entrée libre et gratuite ; chaque participant devra toutefois venir avec son propre jeux. \nRenseignements :\n02 37 37 64 17 \n  \n \n 
URL:https://mairielafertevidame.fr/event/2256/
LOCATION:Médiathèque\, 29 rue de Laborde\, La Ferté-Vidame
END:VEVENT
BEGIN:VEVENT
DTSTART;VALUE=DATE:20190623
DTEND;VALUE=DATE:20190624
DTSTAMP:20260420T141749
CREATED:20190307T110805Z
LAST-MODIFIED:20190307T110805Z
UID:984-1561248000-1561334399@mairielafertevidame.fr
SUMMARY:Tournois Tennis
DESCRIPTION:
URL:https://mairielafertevidame.fr/event/tournois-tennis/
LOCATION:Terrain de Tennis\, route de Marchainville\, La Ferté Vidame
END:VEVENT
BEGIN:VEVENT
DTSTART;TZID=Europe/Paris:20190623T163000
DTEND;TZID=Europe/Paris:20190623T163000
DTSTAMP:20260420T141749
CREATED:20190614T142027Z
LAST-MODIFIED:20190614T142027Z
UID:2205-1561307400-1561307400@mairielafertevidame.fr
SUMMARY:Visite parc du Château
DESCRIPTION:La saison des visites estivales de l’Office de tourisme se poursuit avec une visite historique du parc du château de La Ferté-Vidame. Pendant une heure\, venez découvrir l’histoire des lieux et des hôtes illustres qui y ont vécut (Saint-Simon\, De Laborde\, Louis-Philippe). Rendez-vous au pavillon Saint-Dominique à 16h30 (entrée du parc)\, tarif de 5 € par personne (gratuit moins de 12 ans). \nPour tous renseignements :\n02 37 37 68 59 / 02 37 37 80 11 \n 
URL:https://mairielafertevidame.fr/event/visite-parc-du-chateau/
LOCATION:Office de Tourisme des Forêts du Perche\, La Ferté-Vidame\, 28340
END:VEVENT
BEGIN:VEVENT
DTSTART;TZID=Europe/Paris:20190628T170000
DTEND;TZID=Europe/Paris:20190628T170000
DTSTAMP:20260420T141749
CREATED:20190617T093702Z
LAST-MODIFIED:20190617T093702Z
UID:2263-1561741200-1561741200@mairielafertevidame.fr
SUMMARY:Balade commentée du parc du château en calèche
DESCRIPTION:Le vendredi 28 juin à 17h00 : visite du parc du château en calèche. \nL’Office de Tourisme vous propose\, en partenariat avec le Poney Club du Champ Brûlé\, une sortie découverte du parc du château de La Ferté-Vidame en calèche ! Accompagnés par notre guide Gaël\, vous plongerez dans l’histoire des lieux tout en flânant dans l’ancien parc à la française…à ne pas manquer ! Tarif de 15€ par personne\, 5€ pour les moins de 8 ans.\nRenseignements et réservations :\n02 37 37 68 59 / 02 37 37 80 11 \n 
URL:https://mairielafertevidame.fr/event/balade-commentee-du-parc-du-chateau-en-caleche/
LOCATION:Parc du Château\, La Ferté-Vidame
END:VEVENT
BEGIN:VEVENT
DTSTART;VALUE=DATE:20190629
DTEND;VALUE=DATE:20190630
DTSTAMP:20260420T141749
CREATED:20190307T110844Z
LAST-MODIFIED:20190307T110844Z
UID:987-1561766400-1561852799@mairielafertevidame.fr
SUMMARY:Tournois de Tennis
DESCRIPTION:
URL:https://mairielafertevidame.fr/event/tournois-de-tennis/
LOCATION:Terrain de Tennis\, route de Marchainville\, La Ferté Vidame
END:VEVENT
BEGIN:VEVENT
DTSTART;TZID=Europe/Paris:20190629T200000
DTEND;TZID=Europe/Paris:20190629T200000
DTSTAMP:20260420T141749
CREATED:20190307T112207Z
LAST-MODIFIED:20190617T093359Z
UID:991-1561838400-1561838400@mairielafertevidame.fr
SUMMARY:Soirée Fluo
DESCRIPTION:Le samedi 29 juin à partir de 19h30\, soirée fluo à La Ferté-Vidame.\nLe Tennis Club de La Ferté-Vidame organise une soirée fluo autour d’un couscous\, dans la salle de tennis route de Marchainville. Ouverte à tous\, cette soirée sera haute en couleur avec le repas mais aussi les animations et la soirée musicale qui l’accompagneront ! Tarif de 10€ jusqu’à 12 ans\, 15€ à partir de 13 ans et 10€ sans restauration.\nRenseignements et réservations :\nhttp://www.club.fft.fr/ferte-vidame \n 
URL:https://mairielafertevidame.fr/event/soiree-fluo-by-move-on-up-nigth/
LOCATION:Terrain de Tennis\, route de Marchainville\, La Ferté Vidame
END:VEVENT
BEGIN:VEVENT
DTSTART;VALUE=DATE:20190630
DTEND;VALUE=DATE:20190701
DTSTAMP:20260420T141749
CREATED:20190307T110933Z
LAST-MODIFIED:20190617T093510Z
UID:989-1561852800-1561939199@mairielafertevidame.fr
SUMMARY:Tournois de Tennis
DESCRIPTION:Le dimanche 30 juin\, tennis à La Ferté-vidame.\nLe Tennis Club de La Ferté-Vidame organise son tournoi de fin d’année. Des grillades seront proposées le midi dès 12h00\, le tournoi des tennis se tiendra à 15h et les récompenses seront données à partir de 18h00. Les réservations sont souhaitées pour le repas\, tarif de 12€ pour les adultes\, 6€ pour les enfants de moins de 6 ans.\nRenseignements et réservations :\n07 68 75 52 61 \n 
URL:https://mairielafertevidame.fr/event/tournois-de-tennis-2/
LOCATION:Terrain de Tennis\, route de Marchainville\, La Ferté Vidame
END:VEVENT
BEGIN:VEVENT
DTSTART;TZID=Europe/Paris:20190630T083000
DTEND;TZID=Europe/Paris:20190630T083000
DTSTAMP:20260420T141749
CREATED:20190307T112501Z
LAST-MODIFIED:20190307T112501Z
UID:993-1561883400-1561883400@mairielafertevidame.fr
SUMMARY:Randonnée
DESCRIPTION:
URL:https://mairielafertevidame.fr/event/randonnee/
LOCATION:Rond de Battenberg\, Rond de Battenberg\, La Ferté Vidame
END:VEVENT
BEGIN:VEVENT
DTSTART;TZID=Europe/Paris:20190630T150000
DTEND;TZID=Europe/Paris:20190630T150000
DTSTAMP:20260420T141749
CREATED:20190614T132612Z
LAST-MODIFIED:20190614T134905Z
UID:2139-1561906800-1561906800@mairielafertevidame.fr
SUMMARY:Visite la Chapelle de réveillon
DESCRIPTION:L’Office de Tourisme vous propose la visite de ce petit bijou de notre territoire qu’est la chapelle de Réveillon. Datant des XIIème\, XIIIème\, XIVème et XVème siècle\, elle renferme entre autre des peintures murales en parfait état classées aux Monuments Historiques. Rendez-vous sur place à 15h00\, tarif de 5 € par personne (gratuit moins de 12 ans). \n 
URL:https://mairielafertevidame.fr/event/visite-la-chapelle-de-reveillon-2/
LOCATION:Chapelle de Réveillon\, Réveillon\, 28340
END:VEVENT
BEGIN:VEVENT
DTSTART;TZID=Europe/Paris:20190630T163000
DTEND;TZID=Europe/Paris:20190630T163000
DTSTAMP:20260420T141749
CREATED:20190614T142209Z
LAST-MODIFIED:20190614T142209Z
UID:2207-1561912200-1561912200@mairielafertevidame.fr
SUMMARY:Visite du parc du Château
DESCRIPTION:La saison des visites estivales de l’Office de tourisme se poursuit avec une visite historique du parc du château de La Ferté-Vidame. Pendant une heure\, venez découvrir l’histoire des lieux et des hôtes illustres qui y ont vécut (Saint-Simon\, De Laborde\, Louis-Philippe). Rendez-vous au pavillon Saint-Dominique à 16h30 (entrée du parc)\, tarif de 5 € par personne (gratuit moins de 12 ans). \nPour tous renseignements :\n02 37 37 68 59 / 02 37 37 80 11 \n 
URL:https://mairielafertevidame.fr/event/visite-du-parc-du-chateau-2/
LOCATION:Office de Tourisme des Forêts du Perche\, La Ferté-Vidame\, 28340
END:VEVENT
END:VCALENDAR